BEGIN:VCALENDAR
VERSION:2.0
PRODID:-//Goldgrube//myauktion.com//AT
CALSCALE:GREGORIAN
BEGIN:VEVENT
DTSTART:20260504T150000
DTEND:20260504T150030
LOCATION:Gewerbepark 13, 8562 Mooskirchen
DTSTAMP:20260420T203053
SUMMARY:MyAuktion: Ablauf Artikel Nr. 956834 Dein Bestes Katzenfutter diverse Sorten 17x415g
URL;VALUE=URI:https://www.myauktion.com/versteigerung7650-position2441182-dein-bestes-katzenfutter-diverse-sorten-17x415g.php
DESCRIPTION:MHD 27.08.2027 / Ohne Schütte 
UID:myauktion-7650-2441182
BEGIN:VALARM
ACTION:DISPLAY
DESCRIPTION:MHD 27.08.2027 / Ohne Schütte 
TRIGGER:-PT10M
END:VALARM
END:VEVENT
END:VCALENDAR