BEGIN:VCALENDAR
VERSION:2.0
PRODID:-//Goldgrube//myauktion.com//AT
CALSCALE:GREGORIAN
BEGIN:VEVENT
DTSTART:20260504T150100
DTEND:20260504T150130
LOCATION:Gewerbepark 13, 8562 Mooskirchen
DTSTAMP:20260421T022959
SUMMARY:MyAuktion: Ablauf Artikel Nr. 956835 Felix Katzenfutter diverse Sorten 
URL;VALUE=URI:https://www.myauktion.com/versteigerung7650-position2441185-felix-katzenfutter-diverse-sorten.php
DESCRIPTION:MHD 06.2027 / ohne Schütte 
UID:myauktion-7650-2441185
BEGIN:VALARM
ACTION:DISPLAY
DESCRIPTION:MHD 06.2027 / ohne Schütte 
TRIGGER:-PT10M
END:VALARM
END:VEVENT
END:VCALENDAR