BEGIN:VCALENDAR
VERSION:2.0
PRODID:-//Goldgrube//myauktion.com//AT
CALSCALE:GREGORIAN
BEGIN:VEVENT
DTSTART:20260504T165500
DTEND:20260504T165530
LOCATION:Gewerbepark 13, 8562 Mooskirchen
DTSTAMP:20260420T222102
SUMMARY:MyAuktion: Ablauf Artikel Nr. 957091 Canis Alpha Fisch Spezial Hundefutter 5kg
URL;VALUE=URI:https://www.myauktion.com/versteigerung7650-position2441186-canis-alpha-fisch-spezial-hundefutter-5kg.php
DESCRIPTION:MHD: 31.01.2027, Verpackung verschmutzt
UID:myauktion-7650-2441186
BEGIN:VALARM
ACTION:DISPLAY
DESCRIPTION:MHD: 31.01.2027, Verpackung verschmutzt
TRIGGER:-PT10M
END:VALARM
END:VEVENT
END:VCALENDAR