BEGIN:VCALENDAR
VERSION:2.0
PRODID:-//Goldgrube//myauktion.com//AT
CALSCALE:GREGORIAN
BEGIN:VEVENT
DTSTART:20260504T150300
DTEND:20260504T150330
LOCATION:Gewerbepark 13, 8562 Mooskirchen
DTSTAMP:20260421T003830
SUMMARY:MyAuktion: Ablauf Artikel Nr. 956837 Diverse Hundefutter 
URL;VALUE=URI:https://www.myauktion.com/versteigerung7650-position2441189-diverse-hundefutter.php
DESCRIPTION:MHD 24.11.2027 / ohne Schütte
UID:myauktion-7650-2441189
BEGIN:VALARM
ACTION:DISPLAY
DESCRIPTION:MHD 24.11.2027 / ohne Schütte
TRIGGER:-PT10M
END:VALARM
END:VEVENT
END:VCALENDAR