BEGIN:VCALENDAR
VERSION:2.0
PRODID:-//Goldgrube//myauktion.com//AT
CALSCALE:GREGORIAN
BEGIN:VEVENT
DTSTART:20260504T150400
DTEND:20260504T150430
LOCATION:Gewerbepark 13, 8562 Mooskirchen
DTSTAMP:20260421T023001
SUMMARY:MyAuktion: Ablauf Artikel Nr. 956838 Diverse Hundefutter 7x800g 
URL;VALUE=URI:https://www.myauktion.com/versteigerung7650-position2441190-diverse-hundefutter-7x800g.php
DESCRIPTION:MHD 20.11.2027 / ohne Schütte 
UID:myauktion-7650-2441190
BEGIN:VALARM
ACTION:DISPLAY
DESCRIPTION:MHD 20.11.2027 / ohne Schütte 
TRIGGER:-PT10M
END:VALARM
END:VEVENT
END:VCALENDAR