BEGIN:VCALENDAR
VERSION:2.0
PRODID:-//Goldgrube//myauktion.com//AT
CALSCALE:GREGORIAN
BEGIN:VEVENT
DTSTART:20260504T165700
DTEND:20260504T165730
LOCATION:Gewerbepark 13, 8562 Mooskirchen
DTSTAMP:20260421T023001
SUMMARY:MyAuktion: Ablauf Artikel Nr. 957093 Kattovit Feline Diet mit Ente, 10×85g 
URL;VALUE=URI:https://www.myauktion.com/versteigerung7650-position2441194-kattovit-feline-diet-mit-ente-1085g.php
DESCRIPTION:MHD: 18.11.2028, Verpackung beschädigt
UID:myauktion-7650-2441194
BEGIN:VALARM
ACTION:DISPLAY
DESCRIPTION:MHD: 18.11.2028, Verpackung beschädigt
TRIGGER:-PT10M
END:VALARM
END:VEVENT
END:VCALENDAR