BEGIN:VCALENDAR
VERSION:2.0
PRODID:-//Goldgrube//myauktion.com//AT
CALSCALE:GREGORIAN
BEGIN:VEVENT
DTSTART:20260504T135700
DTEND:20260504T135730
LOCATION:Gewerbepark 13, 8562 Mooskirchen
DTSTAMP:20260420T214338
SUMMARY:MyAuktion: Ablauf Artikel Nr. 955788 Butcher&#39;s Delicious Dinners 3 Verschiedene Sorten 6x400g 
URL;VALUE=URI:https://www.myauktion.com/versteigerung7650-position2441195-butcher-39s-delicious-dinners-3-verschiedene-sorten-6x400g.php
DESCRIPTION:MJD: 04/28
UID:myauktion-7650-2441195
BEGIN:VALARM
ACTION:DISPLAY
DESCRIPTION:MJD: 04/28
TRIGGER:-PT10M
END:VALARM
END:VEVENT
END:VCALENDAR