BEGIN:VCALENDAR
VERSION:2.0
PRODID:-//Goldgrube//myauktion.com//AT
CALSCALE:GREGORIAN
BEGIN:VEVENT
DTSTART:20260504T165800
DTEND:20260504T165830
LOCATION:Gewerbepark 13, 8562 Mooskirchen
DTSTAMP:20260420T235724
SUMMARY:MyAuktion: Ablauf Artikel Nr. 957094 Premiere Meat Menu Kitten 300g
URL;VALUE=URI:https://www.myauktion.com/versteigerung7650-position2441196-premiere-meat-menu-kitten-300g.php
DESCRIPTION:MHD: 16.04.2027
UID:myauktion-7650-2441196
BEGIN:VALARM
ACTION:DISPLAY
DESCRIPTION:MHD: 16.04.2027
TRIGGER:-PT10M
END:VALARM
END:VEVENT
END:VCALENDAR