BEGIN:VCALENDAR
VERSION:2.0
PRODID:-//Goldgrube//myauktion.com//AT
CALSCALE:GREGORIAN
BEGIN:VEVENT
DTSTART:20260504T165900
DTEND:20260504T165930
LOCATION:Gewerbepark 13, 8562 Mooskirchen
DTSTAMP:20260420T222103
SUMMARY:MyAuktion: Ablauf Artikel Nr. 957095 Purina One Bifensis 750g
URL;VALUE=URI:https://www.myauktion.com/versteigerung7650-position2441197-purina-one-bifensis-750g.php
DESCRIPTION:MHD: 04/2027
UID:myauktion-7650-2441197
BEGIN:VALARM
ACTION:DISPLAY
DESCRIPTION:MHD: 04/2027
TRIGGER:-PT10M
END:VALARM
END:VEVENT
END:VCALENDAR