BEGIN:VCALENDAR
VERSION:2.0
PRODID:-//Goldgrube//myauktion.com//AT
CALSCALE:GREGORIAN
BEGIN:VEVENT
DTSTART:20260504T170000
DTEND:20260504T170030
LOCATION:Gewerbepark 13, 8562 Mooskirchen
DTSTAMP:20260420T214345
SUMMARY:MyAuktion: Ablauf Artikel Nr. 957096 Multifit Care Junior mit Huhn 750g
URL;VALUE=URI:https://www.myauktion.com/versteigerung7650-position2441198-multifit-care-junior-mit-huhn-750g.php
DESCRIPTION:MHD: 11.12.2026
UID:myauktion-7650-2441198
BEGIN:VALARM
ACTION:DISPLAY
DESCRIPTION:MHD: 11.12.2026
TRIGGER:-PT10M
END:VALARM
END:VEVENT
END:VCALENDAR