BEGIN:VCALENDAR
VERSION:2.0
PRODID:-//Goldgrube//myauktion.com//AT
CALSCALE:GREGORIAN
BEGIN:VEVENT
DTSTART:20260504T140200
DTEND:20260504T140230
LOCATION:Gewerbepark 13, 8562 Mooskirchen
DTSTAMP:20260421T023003
SUMMARY:MyAuktion: Ablauf Artikel Nr. 955789 Veddelholzer Haustiere Gelenktabletten 150g 125 Tabletten 
URL;VALUE=URI:https://www.myauktion.com/versteigerung7650-position2441199-veddelholzer-haustiere-gelenktabletten-150g-125-tabletten.php
DESCRIPTION:MHD: 30/06/28
UID:myauktion-7650-2441199
BEGIN:VALARM
ACTION:DISPLAY
DESCRIPTION:MHD: 30/06/28
TRIGGER:-PT10M
END:VALARM
END:VEVENT
END:VCALENDAR