BEGIN:VCALENDAR
VERSION:2.0
PRODID:-//Goldgrube//myauktion.com//AT
CALSCALE:GREGORIAN
BEGIN:VEVENT
DTSTART:20260504T170100
DTEND:20260504T170130
LOCATION:Gewerbepark 13, 8562 Mooskirchen
DTSTAMP:20260421T024028
SUMMARY:MyAuktion: Ablauf Artikel Nr. 957097 Wow Cat Filets in Sauce Ente & Huhn 8×85g
URL;VALUE=URI:https://www.myauktion.com/versteigerung7650-position2441201-wow-cat-filets-in-sauce-ente-38-huhn-885g.php
DESCRIPTION:MHD: 08.05.2028
UID:myauktion-7650-2441201
BEGIN:VALARM
ACTION:DISPLAY
DESCRIPTION:MHD: 08.05.2028
TRIGGER:-PT10M
END:VALARM
END:VEVENT
END:VCALENDAR