BEGIN:VCALENDAR
VERSION:2.0
PRODID:-//Goldgrube//myauktion.com//AT
CALSCALE:GREGORIAN
BEGIN:VEVENT
DTSTART:20260504T150700
DTEND:20260504T150730
LOCATION:Gewerbepark 13, 8562 Mooskirchen
DTSTAMP:20260421T023004
SUMMARY:MyAuktion: Ablauf Artikel Nr. 956841 Lucky Lou Der Platzhirsch je 300g
URL;VALUE=URI:https://www.myauktion.com/versteigerung7650-position2441202-lucky-lou-der-platzhirsch-je-300g.php
DESCRIPTION:MHD 22.10.2028 
UID:myauktion-7650-2441202
BEGIN:VALARM
ACTION:DISPLAY
DESCRIPTION:MHD 22.10.2028 
TRIGGER:-PT10M
END:VALARM
END:VEVENT
END:VCALENDAR