BEGIN:VCALENDAR
VERSION:2.0
PRODID:-//Goldgrube//myauktion.com//AT
CALSCALE:GREGORIAN
BEGIN:VEVENT
DTSTART:20260504T170200
DTEND:20260504T170230
LOCATION:Gewerbepark 13, 8562 Mooskirchen
DTSTAMP:20260420T214346
SUMMARY:MyAuktion: Ablauf Artikel Nr. 957098 Purizon Original Huhn & Fisch 400g
URL;VALUE=URI:https://www.myauktion.com/versteigerung7650-position2441204-purizon-original-huhn-38-fisch-400g.php
DESCRIPTION:MHD: 03.07.2027
UID:myauktion-7650-2441204
BEGIN:VALARM
ACTION:DISPLAY
DESCRIPTION:MHD: 03.07.2027
TRIGGER:-PT10M
END:VALARM
END:VEVENT
END:VCALENDAR