BEGIN:VCALENDAR
VERSION:2.0
PRODID:-//Goldgrube//myauktion.com//AT
CALSCALE:GREGORIAN
BEGIN:VEVENT
DTSTART:20260504T150900
DTEND:20260504T150930
LOCATION:Gewerbepark 13, 8562 Mooskirchen
DTSTAMP:20260421T023002
SUMMARY:MyAuktion: Ablauf Artikel Nr. 956843 MultiFit Junior Katzenfutter je 100g
URL;VALUE=URI:https://www.myauktion.com/versteigerung7650-position2441205-multifit-junior-katzenfutter-je-100g.php
DESCRIPTION:MHD 11.10.2027 
UID:myauktion-7650-2441205
BEGIN:VALARM
ACTION:DISPLAY
DESCRIPTION:MHD 11.10.2027 
TRIGGER:-PT10M
END:VALARM
END:VEVENT
END:VCALENDAR