BEGIN:VCALENDAR
VERSION:2.0
PRODID:-//Goldgrube//myauktion.com//AT
CALSCALE:GREGORIAN
BEGIN:VEVENT
DTSTART:20260504T170400
DTEND:20260504T170430
LOCATION:Gewerbepark 13, 8562 Mooskirchen
DTSTAMP:20260420T214346
SUMMARY:MyAuktion: Ablauf Artikel Nr. 957100 Purizon Original Ente & Fisch 400g
URL;VALUE=URI:https://www.myauktion.com/versteigerung7650-position2441207-purizon-original-ente-38-fisch-400g.php
DESCRIPTION:MHD: 07.07.2027
UID:myauktion-7650-2441207
BEGIN:VALARM
ACTION:DISPLAY
DESCRIPTION:MHD: 07.07.2027
TRIGGER:-PT10M
END:VALARM
END:VEVENT
END:VCALENDAR