BEGIN:VCALENDAR
VERSION:2.0
PRODID:-//Goldgrube//myauktion.com//AT
CALSCALE:GREGORIAN
BEGIN:VEVENT
DTSTART:20260504T151000
DTEND:20260504T151030
LOCATION:Gewerbepark 13, 8562 Mooskirchen
DTSTAMP:20260420T214348
SUMMARY:MyAuktion: Ablauf Artikel Nr. 956844 Deli Beast Swiss+Menu Pferd Traininggoody je 200g
URL;VALUE=URI:https://www.myauktion.com/versteigerung7650-position2441208-deli-beast-swiss-menu-pferd-traininggoody-je-200g.php
DESCRIPTION:MHD 31.10.2027 
UID:myauktion-7650-2441208
BEGIN:VALARM
ACTION:DISPLAY
DESCRIPTION:MHD 31.10.2027 
TRIGGER:-PT10M
END:VALARM
END:VEVENT
END:VCALENDAR