BEGIN:VCALENDAR
VERSION:2.0
PRODID:-//Goldgrube//myauktion.com//AT
CALSCALE:GREGORIAN
BEGIN:VEVENT
DTSTART:20260504T170500
DTEND:20260504T170530
LOCATION:Gewerbepark 13, 8562 Mooskirchen
DTSTAMP:20260420T214349
SUMMARY:MyAuktion: Ablauf Artikel Nr. 957101 Purizon Original Fisch 400g
URL;VALUE=URI:https://www.myauktion.com/versteigerung7650-position2441209-purizon-original-fisch-400g.php
DESCRIPTION:MHD: 01.08.2027
UID:myauktion-7650-2441209
BEGIN:VALARM
ACTION:DISPLAY
DESCRIPTION:MHD: 01.08.2027
TRIGGER:-PT10M
END:VALARM
END:VEVENT
END:VCALENDAR