BEGIN:VCALENDAR
VERSION:2.0
PRODID:-//Goldgrube//myauktion.com//AT
CALSCALE:GREGORIAN
BEGIN:VEVENT
DTSTART:20260504T153300
DTEND:20260504T153330
LOCATION:Gewerbepark 13, 8562 Mooskirchen
DTSTAMP:20260421T023002
SUMMARY:MyAuktion: Ablauf Artikel Nr. 957053 The Good Stuff Pferdewürfel je 150g
URL;VALUE=URI:https://www.myauktion.com/versteigerung7650-position2441220-the-good-stuff-pferdewuerfel-je-150g.php
DESCRIPTION:MHD: 21.07.2027
UID:myauktion-7650-2441220
BEGIN:VALARM
ACTION:DISPLAY
DESCRIPTION:MHD: 21.07.2027
TRIGGER:-PT10M
END:VALARM
END:VEVENT
END:VCALENDAR