BEGIN:VCALENDAR
VERSION:2.0
PRODID:-//Goldgrube//myauktion.com//AT
CALSCALE:GREGORIAN
BEGIN:VEVENT
DTSTART:20260504T154400
DTEND:20260504T154430
LOCATION:Gewerbepark 13, 8562 Mooskirchen
DTSTAMP:20260421T023002
SUMMARY:MyAuktion: Ablauf Artikel Nr. 957061 Hello Bello Magen & Darm Drops je 350g
URL;VALUE=URI:https://www.myauktion.com/versteigerung7650-position2441223-hello-bello-magen-38-darm-drops-je-350g.php
DESCRIPTION:MHD: 18.08.2027
UID:myauktion-7650-2441223
BEGIN:VALARM
ACTION:DISPLAY
DESCRIPTION:MHD: 18.08.2027
TRIGGER:-PT10M
END:VALARM
END:VEVENT
END:VCALENDAR