BEGIN:VCALENDAR
VERSION:2.0
PRODID:-//Goldgrube//myauktion.com//AT
CALSCALE:GREGORIAN
BEGIN:VEVENT
DTSTART:20260504T154800
DTEND:20260504T154830
LOCATION:Gewerbepark 13, 8562 Mooskirchen
DTSTAMP:20260420T214341
SUMMARY:MyAuktion: Ablauf Artikel Nr. 957062 Hello Bello Gras & Kotfresser Drops je 350g
URL;VALUE=URI:https://www.myauktion.com/versteigerung7650-position2441227-hello-bello-gras-38-kotfresser-drops-je-350g.php
DESCRIPTION:MHD: 21.07.2027
UID:myauktion-7650-2441227
BEGIN:VALARM
ACTION:DISPLAY
DESCRIPTION:MHD: 21.07.2027
TRIGGER:-PT10M
END:VALARM
END:VEVENT
END:VCALENDAR