BEGIN:VCALENDAR
VERSION:2.0
PRODID:-//Goldgrube//myauktion.com//AT
CALSCALE:GREGORIAN
BEGIN:VEVENT
DTSTART:20260504T140700
DTEND:20260504T140730
LOCATION:Gewerbepark 13, 8562 Mooskirchen
DTSTAMP:20260420T205742
SUMMARY:MyAuktion: Ablauf Artikel Nr. 956807 Purina Gourmet Les Mousselines Mousse 12x85g 
URL;VALUE=URI:https://www.myauktion.com/versteigerung7650-position2441231-purina-gourmet-les-mousselines-mousse-12x85g.php
DESCRIPTION:MHD 08.2027 
UID:myauktion-7650-2441231
BEGIN:VALARM
ACTION:DISPLAY
DESCRIPTION:MHD 08.2027 
TRIGGER:-PT10M
END:VALARM
END:VEVENT
END:VCALENDAR