BEGIN:VCALENDAR
VERSION:2.0
PRODID:-//Goldgrube//myauktion.com//AT
CALSCALE:GREGORIAN
BEGIN:VEVENT
DTSTART:20260504T160500
DTEND:20260504T160530
LOCATION:Gewerbepark 13, 8562 Mooskirchen
DTSTAMP:20260420T235725
SUMMARY:MyAuktion: Ablauf Artikel Nr. 957070 Hello Bello Zahn Shine Pops je 200g
URL;VALUE=URI:https://www.myauktion.com/versteigerung7650-position2441237-hello-bello-zahn-shine-pops-je-200g.php
DESCRIPTION:MHD: 10.02.2027
UID:myauktion-7650-2441237
BEGIN:VALARM
ACTION:DISPLAY
DESCRIPTION:MHD: 10.02.2027
TRIGGER:-PT10M
END:VALARM
END:VEVENT
END:VCALENDAR