BEGIN:VCALENDAR
VERSION:2.0
PRODID:-//Goldgrube//myauktion.com//AT
CALSCALE:GREGORIAN
BEGIN:VEVENT
DTSTART:20260504T133000
DTEND:20260504T133030
LOCATION:Gewerbepark 13, 8562 Mooskirchen
DTSTAMP:20260420T214342
SUMMARY:MyAuktion: Ablauf Artikel Nr. 955766 Royal Canin Treats with Hypoallergenic Diets 230g 
URL;VALUE=URI:https://www.myauktion.com/versteigerung7650-position2441254-royal-canin-treats-with-hypoallergenic-diets-230g.php
DESCRIPTION:MHD: 18/06/26
UID:myauktion-7650-2441254
BEGIN:VALARM
ACTION:DISPLAY
DESCRIPTION:MHD: 18/06/26
TRIGGER:-PT10M
END:VALARM
END:VEVENT
END:VCALENDAR