BEGIN:VCALENDAR
VERSION:2.0
PRODID:-//Goldgrube//myauktion.com//AT
CALSCALE:GREGORIAN
BEGIN:VEVENT
DTSTART:20260504T141600
DTEND:20260504T141630
LOCATION:Gewerbepark 13, 8562 Mooskirchen
DTSTAMP:20260420T214346
SUMMARY:MyAuktion: Ablauf Artikel Nr. 956811 Miamor Trinkfein Kitten mit Huhn 24x135ml 
URL;VALUE=URI:https://www.myauktion.com/versteigerung7650-position2441255-miamor-trinkfein-kitten-mit-huhn-24x135ml.php
DESCRIPTION:MHD 08.04.2028 
UID:myauktion-7650-2441255
BEGIN:VALARM
ACTION:DISPLAY
DESCRIPTION:MHD 08.04.2028 
TRIGGER:-PT10M
END:VALARM
END:VEVENT
END:VCALENDAR