BEGIN:VCALENDAR
VERSION:2.0
PRODID:-//Goldgrube//myauktion.com//AT
CALSCALE:GREGORIAN
BEGIN:VEVENT
DTSTART:20260504T162800
DTEND:20260504T162830
LOCATION:Gewerbepark 13, 8562 Mooskirchen
DTSTAMP:20260420T222104
SUMMARY:MyAuktion: Ablauf Artikel Nr. 957076 Smilla Cat Paté Poultry Pot Mix 6×800g
URL;VALUE=URI:https://www.myauktion.com/versteigerung7650-position2441259-smilla-cat-pate-poultry-pot-mix-6800g.php
DESCRIPTION:MHD: 19.11.2027
UID:myauktion-7650-2441259
BEGIN:VALARM
ACTION:DISPLAY
DESCRIPTION:MHD: 19.11.2027
TRIGGER:-PT10M
END:VALARM
END:VEVENT
END:VCALENDAR