BEGIN:VCALENDAR
VERSION:2.0
PRODID:-//Goldgrube//myauktion.com//AT
CALSCALE:GREGORIAN
BEGIN:VEVENT
DTSTART:20260504T142700
DTEND:20260504T142730
LOCATION:Gewerbepark 13, 8562 Mooskirchen
DTSTAMP:20260421T023004
SUMMARY:MyAuktion: Ablauf Artikel Nr. 956821 MultiFit Katzenfutter Adult Jelly Lachs 6x405g 
URL;VALUE=URI:https://www.myauktion.com/versteigerung7650-position2441265-multifit-katzenfutter-adult-jelly-lachs-6x405g.php
DESCRIPTION:MHD 06.01.2028 
UID:myauktion-7650-2441265
BEGIN:VALARM
ACTION:DISPLAY
DESCRIPTION:MHD 06.01.2028 
TRIGGER:-PT10M
END:VALARM
END:VEVENT
END:VCALENDAR