BEGIN:VCALENDAR
VERSION:2.0
PRODID:-//Goldgrube//myauktion.com//AT
CALSCALE:GREGORIAN
BEGIN:VEVENT
DTSTART:20260504T144100
DTEND:20260504T144130
LOCATION:Gewerbepark 13, 8562 Mooskirchen
DTSTAMP:20260421T023002
SUMMARY:MyAuktion: Ablauf Artikel Nr. 956824 MultiFit Katzenfutter Adult Pate Kaninchen, Ente 6x400g 
URL;VALUE=URI:https://www.myauktion.com/versteigerung7650-position2441275-multifit-katzenfutter-adult-pate-kaninchen-ente-6x400g.php
DESCRIPTION:MHD 29.12.2027 
UID:myauktion-7650-2441275
BEGIN:VALARM
ACTION:DISPLAY
DESCRIPTION:MHD 29.12.2027 
TRIGGER:-PT10M
END:VALARM
END:VEVENT
END:VCALENDAR