BEGIN:VCALENDAR
VERSION:2.0
PRODID:-//Goldgrube//myauktion.com//AT
CALSCALE:GREGORIAN
BEGIN:VEVENT
DTSTART:20260504T163400
DTEND:20260504T163430
LOCATION:Gewerbepark 13, 8562 Mooskirchen
DTSTAMP:20260421T023004
SUMMARY:MyAuktion: Ablauf Artikel Nr. 957079 Perfect Fit Anti Haarball 1+ je 750g
URL;VALUE=URI:https://www.myauktion.com/versteigerung7650-position2441285-perfect-fit-anti-haarball-1-je-750g.php
DESCRIPTION:MHD: 06.08.2027
UID:myauktion-7650-2441285
BEGIN:VALARM
ACTION:DISPLAY
DESCRIPTION:MHD: 06.08.2027
TRIGGER:-PT10M
END:VALARM
END:VEVENT
END:VCALENDAR