BEGIN:VCALENDAR
VERSION:2.0
PRODID:-//Goldgrube//myauktion.com//AT
CALSCALE:GREGORIAN
BEGIN:VEVENT
DTSTART:20260504T134500
DTEND:20260504T134530
LOCATION:Gewerbepark 13, 8562 Mooskirchen
DTSTAMP:20260420T214348
SUMMARY:MyAuktion: Ablauf Artikel Nr. 955778 Wolfsblut Wide Plain Adult Pferdefleisch mit Süßkartoffeln 2kg 
URL;VALUE=URI:https://www.myauktion.com/versteigerung7650-position2441287-wolfsblut-wide-plain-adult-pferdefleisch-mit-suesskartoffeln-2kg.php
DESCRIPTION:
UID:myauktion-7650-2441287
BEGIN:VALARM
ACTION:DISPLAY
DESCRIPTION:
TRIGGER:-PT10M
END:VALARM
END:VEVENT
END:VCALENDAR