BEGIN:VCALENDAR
VERSION:2.0
PRODID:-//Goldgrube//myauktion.com//AT
CALSCALE:GREGORIAN
BEGIN:VEVENT
DTSTART:20260504T164500
DTEND:20260504T164530
LOCATION:Gewerbepark 13, 8562 Mooskirchen
DTSTAMP:20260420T235723
SUMMARY:MyAuktion: Ablauf Artikel Nr. 957084 Lukullus Single Meat Hundefutter je 1kg
URL;VALUE=URI:https://www.myauktion.com/versteigerung7650-position2441294-lukullus-single-meat-hundefutter-je-1kg.php
DESCRIPTION:MHD: 30.09.2026
UID:myauktion-7650-2441294
BEGIN:VALARM
ACTION:DISPLAY
DESCRIPTION:MHD: 30.09.2026
TRIGGER:-PT10M
END:VALARM
END:VEVENT
END:VCALENDAR