BEGIN:VCALENDAR
VERSION:2.0
PRODID:-//Goldgrube//myauktion.com//AT
CALSCALE:GREGORIAN
BEGIN:VEVENT
DTSTART:20260504T164800
DTEND:20260504T164830
LOCATION:Gewerbepark 13, 8562 Mooskirchen
DTSTAMP:20260420T222104
SUMMARY:MyAuktion: Ablauf Artikel Nr. 957085 Amazon Nass-Hundefutter Poltry Chunks in Gravy 6×1,24kg
URL;VALUE=URI:https://www.myauktion.com/versteigerung7650-position2441295-amazon-nass-hundefutter-poltry-chunks-in-gravy-6124kg.php
DESCRIPTION:MHD: 07.09.2026
UID:myauktion-7650-2441295
BEGIN:VALARM
ACTION:DISPLAY
DESCRIPTION:MHD: 07.09.2026
TRIGGER:-PT10M
END:VALARM
END:VEVENT
END:VCALENDAR