BEGIN:VCALENDAR
VERSION:2.0
PRODID:-//Goldgrube//myauktion.com//AT
CALSCALE:GREGORIAN
BEGIN:VEVENT
DTSTART:20260504T165300
DTEND:20260504T165330
LOCATION:Gewerbepark 13, 8562 Mooskirchen
DTSTAMP:20260421T023003
SUMMARY:MyAuktion: Ablauf Artikel Nr. 957090 Select Gold Kitten Classic ab 1 Jahr, je 300g
URL;VALUE=URI:https://www.myauktion.com/versteigerung7650-position2441296-select-gold-kitten-classic-ab-1-jahr-je-300g.php
DESCRIPTION:MHD: 27.04.2027
UID:myauktion-7650-2441296
BEGIN:VALARM
ACTION:DISPLAY
DESCRIPTION:MHD: 27.04.2027
TRIGGER:-PT10M
END:VALARM
END:VEVENT
END:VCALENDAR