BEGIN:VCALENDAR
VERSION:2.0
PRODID:-//Goldgrube//myauktion.com//AT
CALSCALE:GREGORIAN
BEGIN:VEVENT
DTSTART:20260504T130000
DTEND:20260504T130030
LOCATION:Gewerbepark 13, 8562 Mooskirchen
DTSTAMP:20260420T214339
SUMMARY:MyAuktion: Ablauf Artikel Nr. 955743 Trixie Spieltunnel 5x ø18 47cm 
URL;VALUE=URI:https://www.myauktion.com/versteigerung7650-position2441310-trixie-spieltunnel-5x-18-47cm.php
DESCRIPTION:
UID:myauktion-7650-2441310
BEGIN:VALARM
ACTION:DISPLAY
DESCRIPTION:
TRIGGER:-PT10M
END:VALARM
END:VEVENT
END:VCALENDAR