BEGIN:VCALENDAR
VERSION:2.0
PRODID:-//Goldgrube//myauktion.com//AT
CALSCALE:GREGORIAN
BEGIN:VEVENT
DTSTART:20260504T130100
DTEND:20260504T130130
LOCATION:Gewerbepark 13, 8562 Mooskirchen
DTSTAMP:20260421T023000
SUMMARY:MyAuktion: Ablauf Artikel Nr. 955744 Running Cat Toys 
URL;VALUE=URI:https://www.myauktion.com/versteigerung7650-position2441311-running-cat-toys.php
DESCRIPTION:
UID:myauktion-7650-2441311
BEGIN:VALARM
ACTION:DISPLAY
DESCRIPTION:
TRIGGER:-PT10M
END:VALARM
END:VEVENT
END:VCALENDAR