BEGIN:VCALENDAR
VERSION:2.0
PRODID:-//Goldgrube//myauktion.com//AT
CALSCALE:GREGORIAN
BEGIN:VEVENT
DTSTART:20260504T130300
DTEND:20260504T130330
LOCATION:Gewerbepark 13, 8562 Mooskirchen
DTSTAMP:20260421T023001
SUMMARY:MyAuktion: Ablauf Artikel Nr. 955746 Cosma pure Love Cat Scratcher 
URL;VALUE=URI:https://www.myauktion.com/versteigerung7650-position2441313-cosma-pure-love-cat-scratcher.php
DESCRIPTION:
UID:myauktion-7650-2441313
BEGIN:VALARM
ACTION:DISPLAY
DESCRIPTION:
TRIGGER:-PT10M
END:VALARM
END:VEVENT
END:VCALENDAR