BEGIN:VCALENDAR
VERSION:2.0
PRODID:-//Goldgrube//myauktion.com//AT
CALSCALE:GREGORIAN
BEGIN:VEVENT
DTSTART:20260504T130500
DTEND:20260504T130530
LOCATION:Gewerbepark 13, 8562 Mooskirchen
DTSTAMP:20260420T214338
SUMMARY:MyAuktion: Ablauf Artikel Nr. 955748 Katzenstreumatte grau ca 117x69cm 
URL;VALUE=URI:https://www.myauktion.com/versteigerung7650-position2441315-katzenstreumatte-grau-ca-117x69cm.php
DESCRIPTION:
UID:myauktion-7650-2441315
BEGIN:VALARM
ACTION:DISPLAY
DESCRIPTION:
TRIGGER:-PT10M
END:VALARM
END:VEVENT
END:VCALENDAR