BEGIN:VCALENDAR
VERSION:2.0
PRODID:-//Goldgrube//myauktion.com//AT
CALSCALE:GREGORIAN
BEGIN:VEVENT
DTSTART:20260504T130600
DTEND:20260504T130630
LOCATION:Gewerbepark 13, 8562 Mooskirchen
DTSTAMP:20260420T214339
SUMMARY:MyAuktion: Ablauf Artikel Nr. 955749 Easy Pets Regular Training Pads 105Stk  58x58cm
URL;VALUE=URI:https://www.myauktion.com/versteigerung7650-position2441316-easy-pets-regular-training-pads-105stk-58x58cm.php
DESCRIPTION:
UID:myauktion-7650-2441316
BEGIN:VALARM
ACTION:DISPLAY
DESCRIPTION:
TRIGGER:-PT10M
END:VALARM
END:VEVENT
END:VCALENDAR