BEGIN:VCALENDAR
VERSION:2.0
PRODID:-//Goldgrube//myauktion.com//AT
CALSCALE:GREGORIAN
BEGIN:VEVENT
DTSTART:20260504T130700
DTEND:20260504T130730
LOCATION:Gewerbepark 13, 8562 Mooskirchen
DTSTAMP:20260420T190511
SUMMARY:MyAuktion: Ablauf Artikel Nr. 955750 Kälberdecke ca 160x58 cm 
URL;VALUE=URI:https://www.myauktion.com/versteigerung7650-position2441317-kaelberdecke-ca-160x58-cm.php
DESCRIPTION:
UID:myauktion-7650-2441317
BEGIN:VALARM
ACTION:DISPLAY
DESCRIPTION:
TRIGGER:-PT10M
END:VALARM
END:VEVENT
END:VCALENDAR