BEGIN:VCALENDAR
VERSION:2.0
PRODID:-//Goldgrube//myauktion.com//AT
CALSCALE:GREGORIAN
BEGIN:VEVENT
DTSTART:20260504T130800
DTEND:20260504T130830
LOCATION:Gewerbepark 13, 8562 Mooskirchen
DTSTAMP:20260420T214339
SUMMARY:MyAuktion: Ablauf Artikel Nr. 955751 Pet bed flauschig blau ca 73x48cm 
URL;VALUE=URI:https://www.myauktion.com/versteigerung7650-position2441318-pet-bed-flauschig-blau-ca-73x48cm.php
DESCRIPTION:
UID:myauktion-7650-2441318
BEGIN:VALARM
ACTION:DISPLAY
DESCRIPTION:
TRIGGER:-PT10M
END:VALARM
END:VEVENT
END:VCALENDAR