BEGIN:VCALENDAR
VERSION:2.0
PRODID:-//Goldgrube//myauktion.com//AT
CALSCALE:GREGORIAN
BEGIN:VEVENT
DTSTART:20260504T132000
DTEND:20260504T132030
LOCATION:Gewerbepark 13, 8562 Mooskirchen
DTSTAMP:20260420T214338
SUMMARY:MyAuktion: Ablauf Artikel Nr. 955754 Bunny Nature Bedding Active 35l 
URL;VALUE=URI:https://www.myauktion.com/versteigerung7650-position2441324-bunny-nature-bedding-active-35l.php
DESCRIPTION:
UID:myauktion-7650-2441324
BEGIN:VALARM
ACTION:DISPLAY
DESCRIPTION:
TRIGGER:-PT10M
END:VALARM
END:VEVENT
END:VCALENDAR