BEGIN:VCALENDAR
VERSION:2.0
PRODID:-//Goldgrube//myauktion.com//AT
CALSCALE:GREGORIAN
BEGIN:VEVENT
DTSTART:20260504T132500
DTEND:20260504T132530
LOCATION:Gewerbepark 13, 8562 Mooskirchen
DTSTAMP:20260420T214344
SUMMARY:MyAuktion: Ablauf Artikel Nr. 955761 Prerdepflege24 Insektenschutz 2,5l 
URL;VALUE=URI:https://www.myauktion.com/versteigerung7650-position2441328-prerdepflege24-insektenschutz-25l.php
DESCRIPTION:
UID:myauktion-7650-2441328
BEGIN:VALARM
ACTION:DISPLAY
DESCRIPTION:
TRIGGER:-PT10M
END:VALARM
END:VEVENT
END:VCALENDAR