BEGIN:VCALENDAR
VERSION:2.0
PRODID:-//Goldgrube//myauktion.com//AT
CALSCALE:GREGORIAN
BEGIN:VEVENT
DTSTART:20260504T151700
DTEND:20260504T151730
LOCATION:Gewerbepark 13, 8562 Mooskirchen
DTSTAMP:20260420T214340
SUMMARY:MyAuktion: Ablauf Artikel Nr. 956847 Chaohua Natural Cat Repellent Spray Citrus+ 150ml 
URL;VALUE=URI:https://www.myauktion.com/versteigerung7650-position2441330-chaohua-natural-cat-repellent-spray-citrus-150ml.php
DESCRIPTION:
UID:myauktion-7650-2441330
BEGIN:VALARM
ACTION:DISPLAY
DESCRIPTION:
TRIGGER:-PT10M
END:VALARM
END:VEVENT
END:VCALENDAR