BEGIN:VCALENDAR
VERSION:2.0
PRODID:-//Goldgrube//myauktion.com//AT
CALSCALE:GREGORIAN
BEGIN:VEVENT
DTSTART:20260504T151800
DTEND:20260504T151830
LOCATION:Gewerbepark 13, 8562 Mooskirchen
DTSTAMP:20260421T023000
SUMMARY:MyAuktion: Ablauf Artikel Nr. 956848 Tetra AlguMin 250ml 
URL;VALUE=URI:https://www.myauktion.com/versteigerung7650-position2441331-tetra-algumin-250ml.php
DESCRIPTION:MHD 07.2028 
UID:myauktion-7650-2441331
BEGIN:VALARM
ACTION:DISPLAY
DESCRIPTION:MHD 07.2028 
TRIGGER:-PT10M
END:VALARM
END:VEVENT
END:VCALENDAR