BEGIN:VCALENDAR
VERSION:2.0
PRODID:-//Goldgrube//myauktion.com//AT
CALSCALE:GREGORIAN
BEGIN:VEVENT
DTSTART:20260504T140400
DTEND:20260504T140430
LOCATION:Gewerbepark 13, 8562 Mooskirchen
DTSTAMP:20260420T214340
SUMMARY:MyAuktion: Ablauf Artikel Nr. 955791 Vet&#39;s Best Breath Freshener 500ml 
URL;VALUE=URI:https://www.myauktion.com/versteigerung7650-position2441332-vet-39s-best-breath-freshener-500ml.php
DESCRIPTION:
UID:myauktion-7650-2441332
BEGIN:VALARM
ACTION:DISPLAY
DESCRIPTION:
TRIGGER:-PT10M
END:VALARM
END:VEVENT
END:VCALENDAR