BEGIN:VCALENDAR
VERSION:2.0
PRODID:-//Goldgrube//myauktion.com//AT
CALSCALE:GREGORIAN
BEGIN:VEVENT
DTSTART:20260504T151900
DTEND:20260504T151930
LOCATION:Gewerbepark 13, 8562 Mooskirchen
DTSTAMP:20260421T023001
SUMMARY:MyAuktion: Ablauf Artikel Nr. 956849 Alphazoo Lauscher Auf Spülung 250ml
URL;VALUE=URI:https://www.myauktion.com/versteigerung7650-position2441334-alphazoo-lauscher-auf-spuelung-250ml.php
DESCRIPTION:MHD 12.2028 
UID:myauktion-7650-2441334
BEGIN:VALARM
ACTION:DISPLAY
DESCRIPTION:MHD 12.2028 
TRIGGER:-PT10M
END:VALARM
END:VEVENT
END:VCALENDAR