BEGIN:VCALENDAR
VERSION:2.0
PRODID:-//Goldgrube//myauktion.com//AT
CALSCALE:GREGORIAN
BEGIN:VEVENT
DTSTART:20260504T152200
DTEND:20260504T152230
LOCATION:Gewerbepark 13, 8562 Mooskirchen
DTSTAMP:20260421T003831
SUMMARY:MyAuktion: Ablauf Artikel Nr. 956851 TraumaPet Ohrentropfen 50ml 
URL;VALUE=URI:https://www.myauktion.com/versteigerung7650-position2441337-traumapet-ohrentropfen-50ml.php
DESCRIPTION:MHD 11.2028 
UID:myauktion-7650-2441337
BEGIN:VALARM
ACTION:DISPLAY
DESCRIPTION:MHD 11.2028 
TRIGGER:-PT10M
END:VALARM
END:VEVENT
END:VCALENDAR