BEGIN:VCALENDAR
VERSION:2.0
PRODID:-//Goldgrube//myauktion.com//AT
CALSCALE:GREGORIAN
BEGIN:VEVENT
DTSTART:20260504T140500
DTEND:20260504T140530
LOCATION:Gewerbepark 13, 8562 Mooskirchen
DTSTAMP:20260421T032232
SUMMARY:MyAuktion: Ablauf Artikel Nr. 955792 Blue Pet Fell Pflege Spray 200ml 
URL;VALUE=URI:https://www.myauktion.com/versteigerung7650-position2441339-blue-pet-fell-pflege-spray-200ml.php
DESCRIPTION:
UID:myauktion-7650-2441339
BEGIN:VALARM
ACTION:DISPLAY
DESCRIPTION:
TRIGGER:-PT10M
END:VALARM
END:VEVENT
END:VCALENDAR