BEGIN:VCALENDAR
VERSION:2.0
PRODID:-//Goldgrube//myauktion.com//AT
CALSCALE:GREGORIAN
BEGIN:VEVENT
DTSTART:20260504T171300
DTEND:20260504T171330
LOCATION:Gewerbepark 13, 8562 Mooskirchen
DTSTAMP:20260420T222103
SUMMARY:MyAuktion: Ablauf Artikel Nr. 957105 Multifit Katzenstreu Duft Paradise 750g
URL;VALUE=URI:https://www.myauktion.com/versteigerung7650-position2441340-multifit-katzenstreu-duft-paradise-750g.php
DESCRIPTION:MHD: 09/2030
UID:myauktion-7650-2441340
BEGIN:VALARM
ACTION:DISPLAY
DESCRIPTION:MHD: 09/2030
TRIGGER:-PT10M
END:VALARM
END:VEVENT
END:VCALENDAR