BEGIN:VCALENDAR
VERSION:2.0
PRODID:-//Goldgrube//myauktion.com//AT
CALSCALE:GREGORIAN
BEGIN:VEVENT
DTSTART:20260504T152400
DTEND:20260504T152430
LOCATION:Gewerbepark 13, 8562 Mooskirchen
DTSTAMP:20260421T024028
SUMMARY:MyAuktion: Ablauf Artikel Nr. 956852 Gimbi Malt Anti Hairball 50g
URL;VALUE=URI:https://www.myauktion.com/versteigerung7650-position2441341-gimbi-malt-anti-hairball-50g.php
DESCRIPTION:MHD 11.2026 
UID:myauktion-7650-2441341
BEGIN:VALARM
ACTION:DISPLAY
DESCRIPTION:MHD 11.2026 
TRIGGER:-PT10M
END:VALARM
END:VEVENT
END:VCALENDAR